BEGIN:VCALENDAR
VERSION:2.0
PRODID:-//We The People of Christian County - ECPv6.15.20//NONSGML v1.0//EN
CALSCALE:GREGORIAN
METHOD:PUBLISH
X-ORIGINAL-URL:https://wtpcc.org
X-WR-CALDESC:Events for We The People of Christian County
REFRESH-INTERVAL;VALUE=DURATION:PT1H
X-Robots-Tag:noindex
X-PUBLISHED-TTL:PT1H
BEGIN:VTIMEZONE
TZID:America/Chicago
BEGIN:DAYLIGHT
TZOFFSETFROM:-0600
TZOFFSETTO:-0500
TZNAME:CDT
DTSTART:20250309T080000
END:DAYLIGHT
BEGIN:STANDARD
TZOFFSETFROM:-0500
TZOFFSETTO:-0600
TZNAME:CST
DTSTART:20251102T070000
END:STANDARD
BEGIN:DAYLIGHT
TZOFFSETFROM:-0600
TZOFFSETTO:-0500
TZNAME:CDT
DTSTART:20260308T080000
END:DAYLIGHT
BEGIN:STANDARD
TZOFFSETFROM:-0500
TZOFFSETTO:-0600
TZNAME:CST
DTSTART:20261101T070000
END:STANDARD
BEGIN:DAYLIGHT
TZOFFSETFROM:-0600
TZOFFSETTO:-0500
TZNAME:CDT
DTSTART:20270314T080000
END:DAYLIGHT
BEGIN:STANDARD
TZOFFSETFROM:-0500
TZOFFSETTO:-0600
TZNAME:CST
DTSTART:20271107T070000
END:STANDARD
END:VTIMEZONE
BEGIN:VEVENT
DTSTART;TZID=America/Chicago:20260219T180000
DTEND;TZID=America/Chicago:20260219T190000
DTSTAMP:20260423T090659
CREATED:20250318T210759Z
LAST-MODIFIED:20260123T203351Z
UID:1152-1771524000-1771527600@wtpcc.org
SUMMARY:Spokane School Board Meeting
DESCRIPTION:https://www.spokane.k12.mo.us/528107_3    3rd Thursdays
URL:https://wtpcc.org/event/spokane-school-board-meeting-2/
LOCATION:Highlandville Elementary School\, 223 Kentling Ave\, Highlandville\, MO\, 65669
END:VEVENT
BEGIN:VEVENT
DTSTART;TZID=America/Chicago:20260219T183000
DTEND;TZID=America/Chicago:20260219T193000
DTSTAMP:20260423T090659
CREATED:20250318T210417Z
LAST-MODIFIED:20260123T203431Z
UID:1148-1771525800-1771529400@wtpcc.org
SUMMARY:Billings School Board Meeting
DESCRIPTION:https://www.sparta.k12.mo.us/board-meeting-dates   Meetings are the 3rd Thursdays of the month. \n 
URL:https://wtpcc.org/event/billings-school-board-meeting-2/
LOCATION:Billings High School Library\, 118 W. Mt. Vernon Rm 224\, Billings\, Missouri\, 65610\, United States
END:VEVENT
BEGIN:VEVENT
DTSTART;TZID=America/Chicago:20260219T183000
DTEND;TZID=America/Chicago:20260219T203000
DTSTAMP:20260423T090659
CREATED:20250318T205505Z
LAST-MODIFIED:20260123T203501Z
UID:1144-1771525800-1771533000@wtpcc.org
SUMMARY:Sparta School Board Meeting
DESCRIPTION:https://www.sparta.k12.mo.us/493282_3     3rd Thursdays
URL:https://wtpcc.org/event/sparta-school-board-meeting-2/
LOCATION:District Admin Building\, 113 Division St.\, Sparta\, MO\, 65753\, United States
END:VEVENT
BEGIN:VEVENT
DTSTART;TZID=America/Chicago:20260219T190000
DTEND;TZID=America/Chicago:20260219T210000
DTSTAMP:20260423T090659
CREATED:20250318T213611Z
LAST-MODIFIED:20260123T203523Z
UID:1159-1771527600-1771534800@wtpcc.org
SUMMARY:Billings City Council Meeting
DESCRIPTION:https://billingsmo.com/?page_id=1584  3rd Thursdays
URL:https://wtpcc.org/event/billings-city-council-meeting-2/
LOCATION:Billings City Hall\, 202 NE US Hwy 60\, Billings\, MO\, 65610\, United States
END:VEVENT
END:VCALENDAR