BEGIN:VCALENDAR
VERSION:2.0
PRODID:-//We The People of Christian County - ECPv6.15.20//NONSGML v1.0//EN
CALSCALE:GREGORIAN
METHOD:PUBLISH
X-ORIGINAL-URL:https://wtpcc.org
X-WR-CALDESC:Events for We The People of Christian County
REFRESH-INTERVAL;VALUE=DURATION:PT1H
X-Robots-Tag:noindex
X-PUBLISHED-TTL:PT1H
BEGIN:VTIMEZONE
TZID:America/Chicago
BEGIN:DAYLIGHT
TZOFFSETFROM:-0600
TZOFFSETTO:-0500
TZNAME:CDT
DTSTART:20250309T080000
END:DAYLIGHT
BEGIN:STANDARD
TZOFFSETFROM:-0500
TZOFFSETTO:-0600
TZNAME:CST
DTSTART:20251102T070000
END:STANDARD
BEGIN:DAYLIGHT
TZOFFSETFROM:-0600
TZOFFSETTO:-0500
TZNAME:CDT
DTSTART:20260308T080000
END:DAYLIGHT
BEGIN:STANDARD
TZOFFSETFROM:-0500
TZOFFSETTO:-0600
TZNAME:CST
DTSTART:20261101T070000
END:STANDARD
BEGIN:DAYLIGHT
TZOFFSETFROM:-0600
TZOFFSETTO:-0500
TZNAME:CDT
DTSTART:20270314T080000
END:DAYLIGHT
BEGIN:STANDARD
TZOFFSETFROM:-0500
TZOFFSETTO:-0600
TZNAME:CST
DTSTART:20271107T070000
END:STANDARD
END:VTIMEZONE
BEGIN:VEVENT
DTSTART;TZID=America/Chicago:20260217T083000
DTEND;TZID=America/Chicago:20260217T120000
DTSTAMP:20260423T090653
CREATED:20250305T205129Z
LAST-MODIFIED:20260123T203020Z
UID:1096-1771317000-1771329600@wtpcc.org
SUMMARY:Christian County Health Department Meeting
DESCRIPTION:https://www.christiancountymo.gov/ 3rd Tuesday
URL:https://wtpcc.org/event/christian-county-health-department-meeting/
LOCATION:CC Health Department\, 301 E. Brick St.\, Conference Room\, Ozark\, 65721\, United States
END:VEVENT
BEGIN:VEVENT
DTSTART;TZID=America/Chicago:20260217T090000
DTEND;TZID=America/Chicago:20260217T110000
DTSTAMP:20260423T090653
CREATED:20250318T214744Z
LAST-MODIFIED:20260123T203704Z
UID:1164-1771318800-1771326000@wtpcc.org
SUMMARY:Christian County Commissioner Board Meeting
DESCRIPTION:https://www.christiancountymo.gov/offices/commission/  Every Tuesday
URL:https://wtpcc.org/event/christian-county-commissioner-board/
LOCATION:Historic Courthouse\, 100 West Church St.\, Room 100\, Ozark\, MO\, 65721\, United States
END:VEVENT
BEGIN:VEVENT
DTSTART;TZID=America/Chicago:20260217T183000
DTEND;TZID=America/Chicago:20260217T203000
DTSTAMP:20260423T090653
CREATED:20250318T213108Z
LAST-MODIFIED:20260123T203727Z
UID:1157-1771353000-1771360200@wtpcc.org
SUMMARY:Clever City Council Meeting
DESCRIPTION:https://www.clevermo.gov/departments/city_clerk/minutes_and_agendas/index.php  3rd Tuesdays
URL:https://wtpcc.org/event/clever-city-council-meeting-2/
LOCATION:Clever City Hall\, 304 S. Clarke Avenue\, Clever\, MO\, 65631\, United States
END:VEVENT
END:VCALENDAR