BEGIN:VCALENDAR
VERSION:2.0
PRODID:-//We The People of Christian County - ECPv6.15.20//NONSGML v1.0//EN
CALSCALE:GREGORIAN
METHOD:PUBLISH
X-ORIGINAL-URL:https://wtpcc.org
X-WR-CALDESC:Events for We The People of Christian County
REFRESH-INTERVAL;VALUE=DURATION:PT1H
X-Robots-Tag:noindex
X-PUBLISHED-TTL:PT1H
BEGIN:VTIMEZONE
TZID:America/Chicago
BEGIN:DAYLIGHT
TZOFFSETFROM:-0600
TZOFFSETTO:-0500
TZNAME:CDT
DTSTART:20250309T080000
END:DAYLIGHT
BEGIN:STANDARD
TZOFFSETFROM:-0500
TZOFFSETTO:-0600
TZNAME:CST
DTSTART:20251102T070000
END:STANDARD
BEGIN:DAYLIGHT
TZOFFSETFROM:-0600
TZOFFSETTO:-0500
TZNAME:CDT
DTSTART:20260308T080000
END:DAYLIGHT
BEGIN:STANDARD
TZOFFSETFROM:-0500
TZOFFSETTO:-0600
TZNAME:CST
DTSTART:20261101T070000
END:STANDARD
BEGIN:DAYLIGHT
TZOFFSETFROM:-0600
TZOFFSETTO:-0500
TZNAME:CDT
DTSTART:20270314T080000
END:DAYLIGHT
BEGIN:STANDARD
TZOFFSETFROM:-0500
TZOFFSETTO:-0600
TZNAME:CST
DTSTART:20271107T070000
END:STANDARD
END:VTIMEZONE
BEGIN:VEVENT
DTSTART;TZID=America/Chicago:20260216T180000
DTEND;TZID=America/Chicago:20260216T200000
DTSTAMP:20260423T090709
CREATED:20250925T183843Z
LAST-MODIFIED:20260123T203548Z
UID:1770-1771264800-1771272000@wtpcc.org
SUMMARY:Sparta (City Council) Planning Commission Meeting
DESCRIPTION:occurs 3rd Monday of the month at 6:00 pm \n 
URL:https://wtpcc.org/event/sparta-city-council-planning-commission-meeting/
LOCATION:75 N Union Street\, Sparta\, MI 49345\, United States
END:VEVENT
BEGIN:VEVENT
DTSTART;TZID=America/Chicago:20260216T180000
DTEND;TZID=America/Chicago:20260216T220000
DTSTAMP:20260423T090709
CREATED:20250305T204505Z
LAST-MODIFIED:20260123T203618Z
UID:1110-1771264800-1771279200@wtpcc.org
SUMMARY:Christian County Planning and Development Board Meeting
DESCRIPTION:https://www.christiancountymo.gov/planning-development/  3rd Monday
URL:https://wtpcc.org/event/christian-county-planning-and-zoning-board-meeting/
LOCATION:Planning and Development Building\, 1106 W. Jackson; Conference Room\, Ozark\, 65721\, United States
END:VEVENT
BEGIN:VEVENT
DTSTART;TZID=America/Chicago:20260216T190000
DTEND;TZID=America/Chicago:20260216T210000
DTSTAMP:20260423T090709
CREATED:20250225T211157Z
LAST-MODIFIED:20260123T203640Z
UID:1038-1771268400-1771275600@wtpcc.org
SUMMARY:Ozark Aldermen Meeting
DESCRIPTION:https://ozarkmissouri.com/793/Board-of-Aldermen  1st and 3rd Mondays \n 
URL:https://wtpcc.org/event/ozark-aldermen-meeting/
LOCATION:City Hall\, 205 N. 1st ST\, Ozark\, 65721\, United States
END:VEVENT
END:VCALENDAR