BEGIN:VCALENDAR
VERSION:2.0
PRODID:-//We The People of Christian County - ECPv6.15.20//NONSGML v1.0//EN
CALSCALE:GREGORIAN
METHOD:PUBLISH
X-ORIGINAL-URL:https://wtpcc.org
X-WR-CALDESC:Events for We The People of Christian County
REFRESH-INTERVAL;VALUE=DURATION:PT1H
X-Robots-Tag:noindex
X-PUBLISHED-TTL:PT1H
BEGIN:VTIMEZONE
TZID:America/Chicago
BEGIN:DAYLIGHT
TZOFFSETFROM:-0600
TZOFFSETTO:-0500
TZNAME:CDT
DTSTART:20250309T080000
END:DAYLIGHT
BEGIN:STANDARD
TZOFFSETFROM:-0500
TZOFFSETTO:-0600
TZNAME:CST
DTSTART:20251102T070000
END:STANDARD
BEGIN:DAYLIGHT
TZOFFSETFROM:-0600
TZOFFSETTO:-0500
TZNAME:CDT
DTSTART:20260308T080000
END:DAYLIGHT
BEGIN:STANDARD
TZOFFSETFROM:-0500
TZOFFSETTO:-0600
TZNAME:CST
DTSTART:20261101T070000
END:STANDARD
BEGIN:DAYLIGHT
TZOFFSETFROM:-0600
TZOFFSETTO:-0500
TZNAME:CDT
DTSTART:20270314T080000
END:DAYLIGHT
BEGIN:STANDARD
TZOFFSETFROM:-0500
TZOFFSETTO:-0600
TZNAME:CST
DTSTART:20271107T070000
END:STANDARD
END:VTIMEZONE
BEGIN:VEVENT
DTSTART;TZID=America/Chicago:20260210T090000
DTEND;TZID=America/Chicago:20260210T110000
DTSTAMP:20260423T090659
CREATED:20250228T210236Z
LAST-MODIFIED:20260123T203041Z
UID:1086-1770714000-1770721200@wtpcc.org
SUMMARY:Christian County Commissioner Meeting
DESCRIPTION:https://www.christiancountymo.gov/offices/commission/  Every Tuesday at 9:00 am
URL:https://wtpcc.org/event/christian-county-commissioner-meeting/
LOCATION:Historic Courthouse\, 100 West Church St.\, Room 100\, Ozark\, MO\, 65721\, United States
END:VEVENT
BEGIN:VEVENT
DTSTART;TZID=America/Chicago:20260210T180000
DTEND;TZID=America/Chicago:20260210T190000
DTSTAMP:20260423T090659
CREATED:20250831T165410Z
LAST-MODIFIED:20260123T203107Z
UID:1782-1770746400-1770750000@wtpcc.org
SUMMARY:Rogersville City Planning and Zoning Meeting
DESCRIPTION:Regular meetings on the second and fourth Tuesday of the month. \n(https://www.rogersvillemo.org/planning-and-zoning-commission-revising-current-comprehensive-plan/) \n  \n  \n  \n 
URL:https://wtpcc.org/event/rogersville-city-planning-and-zoning-meeting/
LOCATION:Rogersville City Hall\, 211 E Center St\, Rogersville\, MO\, 65742\, United States
END:VEVENT
BEGIN:VEVENT
DTSTART;TZID=America/Chicago:20260210T180000
DTEND;TZID=America/Chicago:20260210T200000
DTSTAMP:20260423T090659
CREATED:20250318T202655Z
LAST-MODIFIED:20260123T203131Z
UID:1140-1770746400-1770753600@wtpcc.org
SUMMARY:Clever School Board Meeting
DESCRIPTION:https://www.clever.k12.mo.us/page/board-of-education  2nd Tuesday
URL:https://wtpcc.org/event/clever-school-board-meeting-2/
LOCATION:Clever K-8 Library\, 103 S Public Ave\, CLEVER\, MO\, 65631\, United States
END:VEVENT
BEGIN:VEVENT
DTSTART;TZID=America/Chicago:20260210T180000
DTEND;TZID=America/Chicago:20260210T210000
DTSTAMP:20260423T090659
CREATED:20250228T195805Z
LAST-MODIFIED:20260123T203151Z
UID:1049-1770746400-1770757200@wtpcc.org
SUMMARY:Sparta City Council Meeting
DESCRIPTION:https://www.spartamo.com/sparta-city-hall/  2nd Tuesday \n 
URL:https://wtpcc.org/event/sparta-city-council-meeting/
LOCATION:Sparta Municipal Building\, 200 North Avenue\, Sparta\, MO\, 65753\, United States
END:VEVENT
BEGIN:VEVENT
DTSTART;TZID=America/Chicago:20260210T190000
DTEND;TZID=America/Chicago:20260210T210000
DTSTAMP:20260423T090659
CREATED:20250228T203203Z
LAST-MODIFIED:20260123T203254Z
UID:1069-1770750000-1770757200@wtpcc.org
SUMMARY:Nixa City Council Meeting
DESCRIPTION:https://www.nixa.com/departments/city-council/  2nd and 4th Tuesdays
URL:https://wtpcc.org/event/nixa-city-council-meeting/
LOCATION:Nixa City Hall\, 715 W. Mt. Vernon St.\, Nixa\, 65714\, United States
END:VEVENT
END:VCALENDAR