BEGIN:VCALENDAR
VERSION:2.0
PRODID:-//We The People of Christian County - ECPv6.15.20//NONSGML v1.0//EN
CALSCALE:GREGORIAN
METHOD:PUBLISH
X-ORIGINAL-URL:https://wtpcc.org
X-WR-CALDESC:Events for We The People of Christian County
REFRESH-INTERVAL;VALUE=DURATION:PT1H
X-Robots-Tag:noindex
X-PUBLISHED-TTL:PT1H
BEGIN:VTIMEZONE
TZID:America/Chicago
BEGIN:DAYLIGHT
TZOFFSETFROM:-0600
TZOFFSETTO:-0500
TZNAME:CDT
DTSTART:20250309T080000
END:DAYLIGHT
BEGIN:STANDARD
TZOFFSETFROM:-0500
TZOFFSETTO:-0600
TZNAME:CST
DTSTART:20251102T070000
END:STANDARD
BEGIN:DAYLIGHT
TZOFFSETFROM:-0600
TZOFFSETTO:-0500
TZNAME:CDT
DTSTART:20260308T080000
END:DAYLIGHT
BEGIN:STANDARD
TZOFFSETFROM:-0500
TZOFFSETTO:-0600
TZNAME:CST
DTSTART:20261101T070000
END:STANDARD
BEGIN:DAYLIGHT
TZOFFSETFROM:-0600
TZOFFSETTO:-0500
TZNAME:CDT
DTSTART:20270314T080000
END:DAYLIGHT
BEGIN:STANDARD
TZOFFSETFROM:-0500
TZOFFSETTO:-0600
TZNAME:CST
DTSTART:20271107T070000
END:STANDARD
END:VTIMEZONE
BEGIN:VEVENT
DTSTART;TZID=America/Chicago:20260205T190000
DTEND;TZID=America/Chicago:20260205T200000
DTSTAMP:20260423T090709
CREATED:20250831T163945Z
LAST-MODIFIED:20260123T202938Z
UID:1777-1770318000-1770321600@wtpcc.org
SUMMARY:Billings City Planning and Zoning Meeting
DESCRIPTION:Meets 1st Thursday of the Month at 7:00 pm in the Billings City Hall Boardroom \n(https://billingsmo.com/?page_id=4595) \n  \n 
URL:https://wtpcc.org/event/billings-city-planning-and-zoning-meeting/
LOCATION:Billings City Hall\, 202 NE US Hwy 60\, Billings\, MO\, 65610\, United States
END:VEVENT
END:VCALENDAR