BEGIN:VCALENDAR
VERSION:2.0
PRODID:-//We The People of Christian County - ECPv6.15.20//NONSGML v1.0//EN
CALSCALE:GREGORIAN
METHOD:PUBLISH
X-WR-CALNAME:We The People of Christian County
X-ORIGINAL-URL:https://wtpcc.org
X-WR-CALDESC:Events for We The People of Christian County
REFRESH-INTERVAL;VALUE=DURATION:PT1H
X-Robots-Tag:noindex
X-PUBLISHED-TTL:PT1H
BEGIN:VTIMEZONE
TZID:America/Chicago
BEGIN:DAYLIGHT
TZOFFSETFROM:-0600
TZOFFSETTO:-0500
TZNAME:CDT
DTSTART:20250309T080000
END:DAYLIGHT
BEGIN:STANDARD
TZOFFSETFROM:-0500
TZOFFSETTO:-0600
TZNAME:CST
DTSTART:20251102T070000
END:STANDARD
BEGIN:DAYLIGHT
TZOFFSETFROM:-0600
TZOFFSETTO:-0500
TZNAME:CDT
DTSTART:20260308T080000
END:DAYLIGHT
BEGIN:STANDARD
TZOFFSETFROM:-0500
TZOFFSETTO:-0600
TZNAME:CST
DTSTART:20261101T070000
END:STANDARD
BEGIN:DAYLIGHT
TZOFFSETFROM:-0600
TZOFFSETTO:-0500
TZNAME:CDT
DTSTART:20270314T080000
END:DAYLIGHT
BEGIN:STANDARD
TZOFFSETFROM:-0500
TZOFFSETTO:-0600
TZNAME:CST
DTSTART:20271107T070000
END:STANDARD
END:VTIMEZONE
BEGIN:VEVENT
DTSTART;TZID=America/Chicago:20260202T180000
DTEND;TZID=America/Chicago:20260202T193000
DTSTAMP:20260423T090358
CREATED:20250219T192848Z
LAST-MODIFIED:20260131T142144Z
UID:997-1770055200-1770060600@wtpcc.org
SUMMARY:WTPCC February Monthly Meeting
DESCRIPTION:  \n \nHeld on the 1st Monday of the month at the Baked Bean in Nixa\, MO\, at 6 pm  unless otherwise specified. \n  \n 
URL:https://wtpcc.org/event/wtpcc-february-monthly-meeting/
LOCATION:Baked Bean\, 1860 N Commerce\, Nixa\, 65714\, United States
END:VEVENT
BEGIN:VEVENT
DTSTART;TZID=America/Chicago:20260202T190000
DTEND;TZID=America/Chicago:20260202T210000
DTSTAMP:20260423T090358
CREATED:20250228T195247Z
LAST-MODIFIED:20260123T202737Z
UID:1044-1770058800-1770066000@wtpcc.org
SUMMARY:Ozark Aldermen Meeting
DESCRIPTION:https://ozarkmissouri.com/793/Board-of-Aldermen  Meetings are the 1st and 3rd Mondays \n 
URL:https://wtpcc.org/event/ozark-alderman-meeting/
LOCATION:City Hall\, 205 N. 1st ST\, Ozark\, 65721\, United States
END:VEVENT
END:VCALENDAR